BEGIN:VCALENDAR
VERSION:2.0
PRODID:-//FAMP Miami Chapter - ECPv6.15.20//NONSGML v1.0//EN
CALSCALE:GREGORIAN
METHOD:PUBLISH
X-WR-CALNAME:FAMP Miami Chapter
X-ORIGINAL-URL:https://miamifamp.org
X-WR-CALDESC:Events for FAMP Miami Chapter
REFRESH-INTERVAL;VALUE=DURATION:PT1H
X-Robots-Tag:noindex
X-PUBLISHED-TTL:PT1H
BEGIN:VTIMEZONE
TZID:America/New_York
BEGIN:DAYLIGHT
TZOFFSETFROM:-0500
TZOFFSETTO:-0400
TZNAME:EDT
DTSTART:20240310T070000
END:DAYLIGHT
BEGIN:STANDARD
TZOFFSETFROM:-0400
TZOFFSETTO:-0500
TZNAME:EST
DTSTART:20241103T060000
END:STANDARD
BEGIN:DAYLIGHT
TZOFFSETFROM:-0500
TZOFFSETTO:-0400
TZNAME:EDT
DTSTART:20250309T070000
END:DAYLIGHT
BEGIN:STANDARD
TZOFFSETFROM:-0400
TZOFFSETTO:-0500
TZNAME:EST
DTSTART:20251102T060000
END:STANDARD
BEGIN:DAYLIGHT
TZOFFSETFROM:-0500
TZOFFSETTO:-0400
TZNAME:EDT
DTSTART:20260308T070000
END:DAYLIGHT
BEGIN:STANDARD
TZOFFSETFROM:-0400
TZOFFSETTO:-0500
TZNAME:EST
DTSTART:20261101T060000
END:STANDARD
BEGIN:DAYLIGHT
TZOFFSETFROM:-0500
TZOFFSETTO:-0400
TZNAME:EDT
DTSTART:20270314T070000
END:DAYLIGHT
BEGIN:STANDARD
TZOFFSETFROM:-0400
TZOFFSETTO:-0500
TZNAME:EST
DTSTART:20271107T060000
END:STANDARD
END:VTIMEZONE
BEGIN:VEVENT
DTSTART;TZID=America/New_York:20260401T120000
DTEND;TZID=America/New_York:20260401T130000
DTSTAMP:20260423T055841
CREATED:20260312T160933Z
LAST-MODIFIED:20260312T160933Z
UID:3827-1775044800-1775048400@miamifamp.org
SUMMARY:Loan Product Lowdown featuring Logan Finance
DESCRIPTION:REGISTER HERE \n  \nJoin us for an introduction to Logan Finance’s products and niches as they discuss resources for your Non-QM success. \nMiami FAMP presents Loan Product Lowdown\, a weekly Zoom webinar designed to give mortgage professionals a clear\, practical understanding of today’s loan products straight from the lenders who offer them. \nEach week\, a different lender joins us to break down their programs\, explain real-world use cases\, and answer your questions live. \nWhat You’ll Gain\n\nDeeper knowledge of loan products you can actually use\nInsight into borrower scenarios and guidelines\nDirect access to lender experts\nTools to expand your offerings and close more loans\n\nWho Should Attend\n\nLoan originators\nMortgage brokers\nBranch managers\nAnyone looking to grow their mortgage knowledge\n\nJoin us live on Zoom. \nhttps://us06web.zoom.us/meeting/register/BZoxSuflRg2hLc9i01O1GA \n  \nSpeakers: \nPaul Jones \nSVP of Business Development \nPaul Jones is a true pioneer in the Non-QM space\, bringing nearly three decades of mortgage industry experience and a deep understanding of alternative lending. As an early adopter of Non-QM\, Paul has spent the last seven years dedicated to reshaping the way originators and lenders approach this vital market. His expertise spans education\, product development\, investor relations\, and strategic growth initiatives—all aimed at helping mortgage professionals leverage Non-QM to expand their business. \nMatthew Sangiuolo \nAccount Executive \nMatthew Sangiuolo\, a resident of Martin County Florida \,has been in the mortgage wholesale \, correspondent\, and servicing industry for 23 years.  He started as a world savings AE and had the opportunity to join a newly purchased Lehman Brothers Subsidiary\, Aurora Loan Services and represent South Florida in 2003. \n  During the credit crisis he earned his MBA from Palm Beach Atlantic University and was hired by Ocwen Financial Corp in 2012.  He waited out the market and held positions in Investor Relations and Risk Management at Ocwen until he started hearing chatter about a new segment of the mortgage market \, NQM.  \nMatthew Jumped back into the wholesale mortgage market as a National Sales Mgr. at A&D mtg and during Covid went over to a new FinTech Wholesale Lender and startup based out of Chicago to lead their sales division.  In 2022 he longed to go back to being an AE where he joined Logan as their first Florida based AE. He has been a Presidents club member in both 2024 and 2025.  \nMatthew enjoys spending time with his wife and two sons and enjoys watching them play baseball and flag football. He enjoys traveling\, boating\, and spending quality time with family and friends in his new second home located In the smoky mountains of western NC.  Matthew uses his extensive experience helping his clients to provide a necessary solution for their borrowers and takes pride in his willingness to be available at all times for his clients.  If you are interested to learn more about Logan Finance and their NQM suite of programs\, please contact him at 772-485-0349 \n 
URL:https://miamifamp.org/event/loan-product-lowdown-featuring-logan-finance/
ATTACH;FMTTYPE=image/png:https://miamifamp.org/wp-content/uploads/2026/03/Loan-Product-6.png
END:VEVENT
BEGIN:VEVENT
DTSTART;TZID=America/New_York:20260325T120000
DTEND;TZID=America/New_York:20260325T130000
DTSTAMP:20260423T055841
CREATED:20260302T225432Z
LAST-MODIFIED:20260305T122420Z
UID:3807-1774440000-1774443600@miamifamp.org
SUMMARY:Loan Product Lowdown featuring The Loan Store
DESCRIPTION:REGISTER HERE \nJoin us for an introduction to the TLS Wealth Builder — a first-lien HELOC that combines a mortgage and checking account into one powerful product. By sweeping deposits nightly against the principal balance\, borrowers can pay off a 30-year mortgage in as few as 9–10 years and save hundreds of thousands in interest. \n  \nWhat We’ll Cover \n\nHow it works: the nightly sweep mechanic and daily interest savings advantage\nIdeal borrower profile: who benefits most from this strategy\nProgram highlights: loan parameters\, eligibility\, and state availability\nPartner opportunity: how to position Wealth Builder with clients and financial advisors\n\nWhether you’re looking to differentiate your product offerings\, deepen client relationships\, or open new wealth-building conversations\, this session will give you the tools to get started. \n—– \nMiami FAMP presents Loan Product Lowdown\, a weekly Zoom webinar designed to give mortgage professionals a clear\, practical understanding of today’s loan products straight from the lenders who offer them. \nEach week\, a different lender joins us to break down their programs\, explain real-world use cases\, and answer your questions live. \nWhat You’ll Gain \n\nDeeper knowledge of loan products you can actually use\nInsight into borrower scenarios and guidelines\nDirect access to lender experts\nTools to expand your offerings and close more loans\n\nWho Should Attend \n\nLoan originators\nMortgage brokers\nBranch managers\nAnyone looking to grow their mortgage knowledge\n\nJoin us live on Zoom. \n—– \nAdam Wagner \nChief Growth Officer | The Loan Store\, Inc. \nAdam Wagner is the Chief Growth Officer at The Loan Store\, Inc.\, a national wholesale lender headquartered in Tucson\, Arizona. With over two decades of mortgage industry experience\, Adam has built a distinguished career leading consumer direct and third-party origination channels across some of the nation’s most prominent lending institutions. His background spans senior leadership roles at Homepoint Financial\, Agora Lending\, Pacific Union Financial\, Freedom Mortgage\, Guaranteed Rate\, LoanDepot\, and Bank of America — where he spent seven years as a Vice President across multiple divisions\, including loss mitigation and sales management. At The Loan Store\, Adam leads strategic growth initiatives encompassing wholesale lending\, joint ventures\, homebuilder partnerships\, fix-and-flip financing\, and the firm’s exclusive private money fund\, Old North Capital. Known for his ability to rapidly identify and align with strategic partners\, Adam brings a hands-on\, results-driven approach to expanding market presence and diversifying product offerings in an evolving mortgage landscape. \n  \nRoss Cowan \nSVP\, Specialty Products | The Loan Store\, Inc. \nRoss Cowan serves as Senior Vice President of Specialty Products at The Loan Store\, Inc.\, where he leads the growth and communication of Non-QM mortgage products across the organization. Ross brings more than 20 years of professional experience in business development\, sales leadership\, and merger and acquisition banking within the mortgage industry. His career includes executive roles at Legacy Group Capital — a specialty construction lender focused on affordable housing — Mission Loans\, LoanDepot\, Cardinal Financial\, Pacific Residential Mortgage\, and Caliber Home Loans\, among others. Earlier in his career\, Ross spent 13 years as Senior Managing Director of Business Development at W.J. Bradley Company\, building and expanding the retail residential mortgage channel. A proven performer with deep expertise in sourcing\, risk management\, and cultivating key decision-maker relationships\, Ross is recognized for his consultative sales approach and his ability to deliver top-line revenue results through both independent execution and team leadership.
URL:https://miamifamp.org/event/loan-product-lowdown-featuring-the-loan-store/
ATTACH;FMTTYPE=image/png:https://miamifamp.org/wp-content/uploads/2026/03/Loan-Product-5.png
END:VEVENT
BEGIN:VEVENT
DTSTART;TZID=America/New_York:20260319T180000
DTEND;TZID=America/New_York:20260319T200000
DTSTAMP:20260423T055841
CREATED:20260217T185518Z
LAST-MODIFIED:20260302T225624Z
UID:3781-1773943200-1773950400@miamifamp.org
SUMMARY:Networking Nights - Pot of Gold Celebration
DESCRIPTION:REGISTER HERE
URL:https://miamifamp.org/event/networking-nights-pot-of-gold-celebration/
LOCATION:John Martin’s\, 253 Miracle Mile\, Coral Gables\, FL\, 33134\, United States
ATTACH;FMTTYPE=image/png:https://miamifamp.org/wp-content/uploads/2026/02/Networking-Nights-5.png
END:VEVENT
BEGIN:VEVENT
DTSTART;TZID=America/New_York:20260115T080000
DTEND;TZID=America/New_York:20260115T170000
DTSTAMP:20260423T055841
CREATED:20250519T174904Z
LAST-MODIFIED:20250905T121139Z
UID:261-1768464000-1768496400@miamifamp.org
SUMMARY:2026 Miami Winter Mortgage Conference
DESCRIPTION:
URL:https://miamifamp.org/event/2026-miami-winter-mortgage-conference/
ATTACH;FMTTYPE=image/png:https://miamifamp.org/wp-content/uploads/2025/05/unnamed.png
END:VEVENT
BEGIN:VEVENT
DTSTART;TZID=America/New_York:20260114T080000
DTEND;TZID=America/New_York:20260114T170000
DTSTAMP:20260423T055841
CREATED:20250519T174756Z
LAST-MODIFIED:20250916T135451Z
UID:258-1768377600-1768410000@miamifamp.org
SUMMARY:3rd Annual FAMP Miami Golf Tournament
DESCRIPTION:For more info please visit www.miamifamp.org/golf
URL:https://miamifamp.org/event/3rd-annual-famp-miami-golf-tournament/
ATTACH;FMTTYPE=image/png:https://miamifamp.org/wp-content/uploads/2025/05/unnamed-1.png
END:VEVENT
BEGIN:VEVENT
DTSTART;TZID=America/New_York:20251211T180000
DTEND;TZID=America/New_York:20251211T200000
DTSTAMP:20260423T055841
CREATED:20251006T164419Z
LAST-MODIFIED:20251115T161857Z
UID:1779-1765476000-1765483200@miamifamp.org
SUMMARY:Holiday Magic in Miami
DESCRIPTION:REGISTER HERE
URL:https://miamifamp.org/event/holiday-magic-in-miami/
LOCATION:Regatta Grove
ATTACH;FMTTYPE=image/png:https://miamifamp.org/wp-content/uploads/2025/10/Copy-of-FAMP-Holiday-Party-2024.png
END:VEVENT
BEGIN:VEVENT
DTSTART;TZID=America/New_York:20251113T180000
DTEND;TZID=America/New_York:20251113T200000
DTSTAMP:20260423T055841
CREATED:20251105T224221Z
LAST-MODIFIED:20251105T224221Z
UID:1839-1763056800-1763064000@miamifamp.org
SUMMARY:Networking Nights: Thanksgiving Food Drive
DESCRIPTION:REGISTER HERE
URL:https://miamifamp.org/event/networking-nights-thanksgiving-food-drive/
LOCATION:Tap 42 Aventura
ATTACH;FMTTYPE=image/png:https://miamifamp.org/wp-content/uploads/2025/11/Networking-Nights-2.png
END:VEVENT
BEGIN:VEVENT
DTSTART;TZID=America/New_York:20251029T110000
DTEND;TZID=America/New_York:20251029T160000
DTSTAMP:20260423T055841
CREATED:20251005T110930Z
LAST-MODIFIED:20251006T164518Z
UID:1770-1761735600-1761753600@miamifamp.org
SUMMARY:Commercial Lending Bootcamp
DESCRIPTION:REGISTER HERE \n 
URL:https://miamifamp.org/event/commercial-lending-bootcamp/
LOCATION:Total Wine Aventura
ATTACH;FMTTYPE=image/png:https://miamifamp.org/wp-content/uploads/2025/10/Commercial-Lending-Series-3.png
END:VEVENT
BEGIN:VEVENT
DTSTART;TZID=America/New_York:20251015T140000
DTEND;TZID=America/New_York:20251015T150000
DTSTAMP:20260423T055841
CREATED:20251006T164315Z
LAST-MODIFIED:20251008T184625Z
UID:1776-1760536800-1760540400@miamifamp.org
SUMMARY:Expand your Revenue: SBA Lending Basics
DESCRIPTION:REGISTER HERE \n  \nPart 2 of our Commercial Fundamentals Series dives into the essentials of SBA lending — a key component in financing commercial transactions. Join Stephanie Schwandt of Milestone Bank and Vinny Muratore from Stone Bank as they break down the fundamentals of SBA programs\, loan structures\, borrower eligibility\, and how these loans can help close more deals. \nWhether you’re new to SBA lending or looking to sharpen your understanding\, this session will help you recognize when SBA financing is the right fit and how to navigate the process successfully. Attendees will leave with practical insights to apply immediately in their commercial lending and origination efforts.
URL:https://miamifamp.org/event/expand-your-revenue-sba-lending-basics/
ATTACH;FMTTYPE=image/png:https://miamifamp.org/wp-content/uploads/2025/10/Commercial-Lending-Series-4.png
END:VEVENT
BEGIN:VEVENT
DTSTART;TZID=America/New_York:20250925T080000
DTEND;TZID=America/New_York:20250925T170000
DTSTAMP:20260423T055841
CREATED:20250828T020013Z
LAST-MODIFIED:20250908T143330Z
UID:1583-1758787200-1758819600@miamifamp.org
SUMMARY:Live CE Class - Miami Lakes
DESCRIPTION:REGISTER HERE \nJoin us for a live 8-hour Required Continuing Education (CE) Class on September 25th\, from 8:00 AM to 5:00 PM at American Bancshares Mortgage\, LLC. This course is essential for those needing to renew their license. License renewal is coming soon! \nPlease arrive at least 30 minutes early to allow time for check-in and seating. \nImportant Note: You must be on time. Anyone arriving more than 10 minutes late will not be permitted to attend or receive course credit. No exceptions will be made. \nDetails: \n\nLocation: 14261 Commerce Way Suite\, Miami Lakes\, Fl 33016\, USA\nInstructor: Michael Aubut\nNMLS Course #17143\nCost: $80 for FAMP Members | $200 for Nonmembers\n\nDon’t delay\, register now to secure your spot!
URL:https://miamifamp.org/event/live-ce-class-miami-lakes/
LOCATION:American Bancshares Mortgage\, LLC\, 14261 Commerce Way Suite 100\, Miami Lakes\, FL\, 33016\, United States
CATEGORIES:Continuing Education
ATTACH;FMTTYPE=image/png:https://miamifamp.org/wp-content/uploads/2025/08/925-Miami.png
END:VEVENT
BEGIN:VEVENT
DTSTART;TZID=America/New_York:20250917T140000
DTEND;TZID=America/New_York:20250917T150000
DTSTAMP:20260423T055841
CREATED:20250905T203039Z
LAST-MODIFIED:20250916T135738Z
UID:1606-1758117600-1758121200@miamifamp.org
SUMMARY:Small Balance Commercial Lending Made Easy
DESCRIPTION:REGISTER HERE \nThe Why\, How\, Who\, and What’s Next \nPresented by Michael Boggiano \n  \nThe course objectives include: \n-Overcoming common fears or objections about originating commercial mortgages \n-Understanding how to add a new revenue stream through commercial lending \n-Defining the purpose and structure of commercial mortgages \n-Comparing key differences between residential and commercial mortgages \n-Exploring various types of commercial loans \n-Gaining foundational knowledge in commercial underwriting \n-Developing a tailored learning plan for commercial mortgage origination \n  \nMeet your instructors: \n\nArt “Ski” Swiatkowski – A seasoned mortgage and real estate professional with over 30 years of experience\, Ski has designed and delivered hundreds of webinars\, workshops\, and in-person training sessions on both mortgage and commercial loan origination. He has led national training programs at major lending platforms\, frequently presented for NAMB and local broker chapters\, and authored educational content for Scotsman Guide. He currently serves on the publication’s Board of Directors. His approach blends industry expertise with a focus on broker development and practical skills.\nEnrique Gomez – An active commercial originator with extensive experience closing diverse transactions\, Enrique provides a real-world perspective on structuring deals\, overcoming underwriting challenges\, and managing client relationships. His insights are grounded in day-to-day origination work\, giving attendees a firsthand look at what it takes to succeed in commercial lending.\nMichael Boggiano – With over 30 years in commercial mortgage origination and leadership\, Michael has built and scaled national broker channels\, trained brokers across the country through webinars and conference sessions\, and led origination teams responsible for over $5 billion in funded transactions. As a founding member of the Academy for Commercial Lending\, he focuses on equipping brokers with actionable strategies that combine industry knowledge\, relationship building\, and market insight.
URL:https://miamifamp.org/event/small-balance-commercial-lending-made-easy/
ATTACH;FMTTYPE=image/png:https://miamifamp.org/wp-content/uploads/2025/09/Commercial-Lending-Series-2.png
END:VEVENT
END:VCALENDAR